BEGIN:VCALENDAR
VERSION:2.0
PRODID:-//Squarespace Inc/Squarespace 6//v6//EN
BEGIN:VEVENT
UID:5ceb172f085229ffac0afe42@squarespace.com
DTSTAMP:20190626T005542Z
DTSTART:20190613T220000Z
DTEND:20190809T020000Z
SUMMARY:PHAT NIGHT THURSDAYS
END:VEVENT
END:VCALENDAR
