BEGIN:VCALENDAR
VERSION:2.0
PRODID:-//Squarespace Inc/Squarespace 6//v6//EN
BEGIN:VEVENT
UID:5c5ca8ccb208fc30ded83fbd@squarespace.com
DTSTAMP:20190417T011701Z
DTSTART:20190413T230000Z
DTEND:20190415T000000Z
SUMMARY:The Weekender 2019
END:VEVENT
END:VCALENDAR
