BEGIN:VCALENDAR
VERSION:2.0
PRODID:-//Squarespace Inc/Squarespace 6//v6//EN
BEGIN:VEVENT
UID:5ca26f8e104c7b9559790834@squarespace.com
DTSTAMP:20190417T012846Z
DTSTART:20190414T203000Z
DTEND:20190415T212900Z
SUMMARY:Weekender THE RESULTS 2019
END:VEVENT
END:VCALENDAR
