BEGIN:VCALENDAR
VERSION:2.0
PRODID:-//Squarespace Inc/Squarespace 6//v6//EN
BEGIN:VEVENT
UID:5b5514f90e2e72a170d06743@squarespace.com
DTSTAMP:20180725T071332Z
DTSTART:20180809T220000Z
DTEND:20180831T010000Z
SUMMARY:PHAT NIGHT THURSDAYS - WINTER RACES
END:VEVENT
END:VCALENDAR
