BEGIN:VCALENDAR
VERSION:2.0
PRODID:-//Squarespace Inc/Squarespace 6//v6//EN
BEGIN:VEVENT
UID:5a8652f224a6943b16b00e8f@squarespace.com
DTSTAMP:20180405T012619Z
DTSTART:20180422T030000Z
DTEND:20180423T025900Z
SUMMARY:Kaiteriteri Mountain Bike Park Weekender 2018
END:VEVENT
END:VCALENDAR
