BEGIN:VCALENDAR
VERSION:2.0
PRODID:-//Squarespace Inc/Squarespace 6//v6//EN
BEGIN:VEVENT
UID:5a39807fec212d64c018624f@squarespace.com
DTSTAMP:20180222T000743Z
DTSTART:20180103T233000Z
DTEND:20180104T013000Z
SUMMARY:Wheel Woman Summer 2018 Twilight sessions 
END:VEVENT
END:VCALENDAR
